BEGIN:VCALENDAR
VERSION:2.0
PRODID:-//ChamberMaster//Event Calendar 2.0//EN
METHOD:PUBLISH
X-PUBLISHED-TTL:P3D
REFRESH-INTERVAL:P3D
CALSCALE:GREGORIAN
BEGIN:VEVENT
DTSTART:20251020T150000Z
DTEND:20251020T210000Z
X-MICROSOFT-CDO-ALLDAYEVENT:FALSE
SUMMARY:2025 BXKY Golf Outing
DESCRIPTION:Join us October 20th at Big Spring Country Club for our Golf Outing. All proceeds will go towards the Builders Exchange of Kentucky Scholarship Fund.\n\n\nEntry Fee includes: Lunch\, Green Fees\, Cart\, Hors d'oeuvres and Drink Tickets (2 per person)\n\n\n\nThere are a number of sponsorships available that will be sold on a first-come\, first-serve basis. Your logo will be displayed on the course recognizing your sponsorship and on our event page. This is an excellent opportunity to support a great cause while promoting your firm to the industry!\n\n \nOur sponsorship opportunities for this event are:\n\n\n	Event Sponsor (includes one foursome): $3\,000 \n	Lunch Sponsor : $1\,000\n	Course Beverage Sponsor : $500\n	Hole Sponsor : $300\n	Closest to the Pin Sponsor: $250\n	Raffle Prize Sponsor: $250\n\n\n\n\n\nPlease include player's names or email them to escharpf@bxkentucky.com after registering.
X-ALT-DESC;FMTTYPE=text/html:<div style="text-align: center\;"><span style="font-size:14px\;"><span style="color:#0099cc\;"><span style="font-family:verdana\;"><span style="font-size:20px\;"><strong>Join us October 20th&nbsp\;at Big Spring Country Club for our Golf Outing. All proceeds will go towards the Builders Exchange of Kentucky Scholarship Fund.</strong></span></span></span></span></div>\n<br />\n<span style="font-size:14px\;"><span style="font-size:16px\;">Entry Fee includes: Lunch\, Green Fees\, Cart\, Hors d&#39\;oeuvres and Drink Tickets (2 per person)<br />\n<br />\n<span class="fontstyle0">There are a number of sponsorships available that will be sold on a first-come\, first-serve basis. Your logo will be displayed on the course recognizing your sponsorship and on our event page. This is an excellent opportunity to support a great cause while promoting your firm to the industry!</span></span></span><br />\n&nbsp\;\n<div style="text-align: center\;"><span style="color:#0099cc\;"><span style="font-family:verdana\;"><span style="font-size:20px\;"><strong>Our sponsorship opportunities for this event are:</strong></span></span></span></div>\n\n<ul>\n	<li><span style="font-size:18px\;">Event Sponsor (includes one foursome): $3\,000&nbsp\;</span></li>\n	<li><span style="font-size:18px\;">Lunch Sponsor : $1\,000</span></li>\n	<li><span style="font-size:18px\;">Course Beverage Sponsor : $500</span></li>\n	<li><span style="font-size:18px\;">Hole Sponsor : $300</span></li>\n	<li><span style="font-size:18px\;">Closest to the Pin Sponsor: $250</span></li>\n	<li><span style="font-size:18px\;">Raffle Prize Sponsor: $250</span></li>\n</ul>\n<br />\n<br />\n<span style="font-size:18px\;"><strong><span style="font-size:16px\;">Please include player&#39\;s names or email them to escharpf@bxkentucky.com after registering.&nbsp\;</span></strong></span>
LOCATION:Big Spring Country Club 5901 Dutchmans Ln Louisville\, KY 40205
UID:e.9419.1439
SEQUENCE:3
DTSTAMP:20260420T163305Z
URL:https://business.bxkentucky.com/events/details/2025-bxky-golf-outing-1439
END:VEVENT

END:VCALENDAR
